BEGIN:VCALENDAR
VERSION:2.0
PRODID:-//hacksw/handcal//NONSGML v1.0//EN
BEGIN:VEVENT
DTSTAMP:20260911T140000Z
DTSTART:20260911T140000Z
DTEND:20260911T220000Z
SUMMARY:Great Lakes Logging and Heavy Equipment Expo  
DESCRIPTION:
END:VEVENT
END:VCALENDAR