BEGIN:VCALENDAR
VERSION:2.0
PRODID:-//hacksw/handcal//NONSGML v1.0//EN
BEGIN:VEVENT
DTSTAMP:20260426T150000Z
DTSTART:20260426T150000Z
DTEND:20260427T010000Z
SUMMARY:Spa, Sauna & Hot Tub Sale  
DESCRIPTION:
END:VEVENT
END:VCALENDAR